BEGIN:VCALENDAR
PRODID:-//eluceo/ical//2.0/EN
VERSION:2.0
CALSCALE:GREGORIAN
BEGIN:VEVENT
UID:e561391b1505f7da0f06f028d2b5833e
DTSTAMP:20260424T064904Z
SUMMARY:TS Sunday School
DESCRIPTION:Jewish Federation of Greater Naples\nCommunity Calendar\nhttps:
 //jewishnaples.org/calendar/calendar16570\n\nTS Sunday School
DTSTART;TZID=America/New_York:20151122T093000
DTEND;TZID=America/New_York:20151122T093000
END:VEVENT
END:VCALENDAR
