BEGIN:VCALENDAR
PRODID:-//eluceo/ical//2.0/EN
VERSION:2.0
CALSCALE:GREGORIAN
BEGIN:VEVENT
UID:9c42603342a2ac0a2becaeae8c14422e
DTSTAMP:20260422T124918Z
SUMMARY:BT  Sunday School
DESCRIPTION:Jewish Federation of Greater Naples\nCommunity Calendar\nhttps:
 //jewishnaples.org/calendar/calendar16568\n\nBT  Sunday School
DTSTART;TZID=America/New_York:20151122T090000
DTEND;TZID=America/New_York:20151122T090000
END:VEVENT
END:VCALENDAR
