BEGIN:VCALENDAR
PRODID:-//eluceo/ical//2.0/EN
VERSION:2.0
CALSCALE:GREGORIAN
BEGIN:VEVENT
UID:6ee4e9d88db76f5acd40c537a9cb0964
DTSTAMP:20260422T202806Z
SUMMARY:CHA  Thanksgiving Lunch & Performance
DESCRIPTION:Jewish Federation of Greater Naples\nCommunity Calendar\nhttps:
 //jewishnaples.org/calendar/calendar16559\n\nCHA  Thanksgiving Lunch & Per
 formance
DTSTART;TZID=America/New_York:20151120T110000
DTEND;TZID=America/New_York:20151120T110000
END:VEVENT
END:VCALENDAR
