BEGIN:VCALENDAR
PRODID:-//eluceo/ical//2.0/EN
VERSION:2.0
CALSCALE:GREGORIAN
BEGIN:VEVENT
UID:70e8a1f0dc59d45179e78cf2c02b9430
DTSTAMP:20260423T094807Z
SUMMARY:BBYO  Youth Activity
DESCRIPTION:Jewish Federation of Greater Naples\nCommunity Calendar\nhttps:
 //jewishnaples.org/calendar/calendar16558\n\nBBYO  Youth Activity
DTSTART;TZID=America/New_York:20151119T180000
DTEND;TZID=America/New_York:20151119T180000
END:VEVENT
END:VCALENDAR
