BEGIN:VCALENDAR
PRODID:-//eluceo/ical//2.0/EN
VERSION:2.0
CALSCALE:GREGORIAN
BEGIN:VEVENT
UID:44997f7c08af278c64b20b0cd9b30ae0
DTSTAMP:20260423T084359Z
SUMMARY:TS  Adult B'nai Mitzvah class
DESCRIPTION:Jewish Federation of Greater Naples\nCommunity Calendar\nhttps:
 //jewishnaples.org/calendar/calendar16551\n\nTS  Adult B'nai Mitzvah class
DTSTART;TZID=America/New_York:20151118T183000
DTEND;TZID=America/New_York:20151118T183000
END:VEVENT
END:VCALENDAR
