BEGIN:VCALENDAR
PRODID:-//eluceo/ical//2.0/EN
VERSION:2.0
CALSCALE:GREGORIAN
BEGIN:VEVENT
UID:1e6b10504867ec53aa10ca4e21f22b2a
DTSTAMP:20260423T141443Z
SUMMARY:JCMI  Bridge
DESCRIPTION:Jewish Federation of Greater Naples\nCommunity Calendar\nhttps:
 //jewishnaples.org/calendar/calendar16546\n\nJCMI  Bridge
DTSTART;TZID=America/New_York:20151118T130000
DTEND;TZID=America/New_York:20151118T130000
END:VEVENT
END:VCALENDAR
