BEGIN:VCALENDAR
PRODID:-//eluceo/ical//2.0/EN
VERSION:2.0
CALSCALE:GREGORIAN
BEGIN:VEVENT
UID:6af5636335d1ffe90be8bc122683c1a1
DTSTAMP:20260424T052339Z
SUMMARY:HDH  Knowledge & Nosh
DESCRIPTION:Jewish Federation of Greater Naples\nCommunity Calendar\nhttps:
 //jewishnaples.org/calendar/calendar16545\n\nHDH  Knowledge & Nosh
DTSTART;TZID=America/New_York:20151118T113000
DTEND;TZID=America/New_York:20151118T113000
END:VEVENT
END:VCALENDAR
