BEGIN:VCALENDAR
PRODID:-//eluceo/ical//2.0/EN
VERSION:2.0
CALSCALE:GREGORIAN
BEGIN:VEVENT
UID:8f2dd09ff11bd01ecd809822f3f4411b
DTSTAMP:20260423T050656Z
SUMMARY:BT  Rabbi's Study Course
DESCRIPTION:Jewish Federation of Greater Naples\nCommunity Calendar\nhttps:
 //jewishnaples.org/calendar/calendar16543\n\nBT  Rabbi's Study Course
DTSTART;TZID=America/New_York:20151117T160000
DTEND;TZID=America/New_York:20151117T160000
END:VEVENT
END:VCALENDAR
