BEGIN:VCALENDAR
PRODID:-//eluceo/ical//2.0/EN
VERSION:2.0
CALSCALE:GREGORIAN
BEGIN:VEVENT
UID:532f0375de25fe541448092db539e359
DTSTAMP:20260424T021944Z
SUMMARY:TS   Membership Event
DESCRIPTION:Jewish Federation of Greater Naples\nCommunity Calendar\nhttps:
 //jewishnaples.org/calendar/calendar16537\n\nTS   Membership Event
DTSTART;TZID=America/New_York:20151115T190000
DTEND;TZID=America/New_York:20151115T190000
END:VEVENT
END:VCALENDAR
