BEGIN:VCALENDAR
PRODID:-//eluceo/ical//2.0/EN
VERSION:2.0
CALSCALE:GREGORIAN
BEGIN:VEVENT
UID:1e80e45b5fec4332ddb386ea2ac79646
DTSTAMP:20260423T204546Z
SUMMARY:GenShoah  Meeting
DESCRIPTION:Jewish Federation of Greater Naples\nCommunity Calendar\nhttps:
 //jewishnaples.org/calendar/calendar16535\n\nGenShoah  Meeting
DTSTART;TZID=America/New_York:20151115T163000
DTEND;TZID=America/New_York:20151115T163000
END:VEVENT
END:VCALENDAR
