BEGIN:VCALENDAR
PRODID:-//eluceo/ical//2.0/EN
VERSION:2.0
CALSCALE:GREGORIAN
BEGIN:VEVENT
UID:cbd3c1e3b28374c6eaa04e3f32cf8b9a
DTSTAMP:20260424T001925Z
SUMMARY:BT  Rosh Chodesh Women's Club
DESCRIPTION:Jewish Federation of Greater Naples\nCommunity Calendar\nhttps:
 //jewishnaples.org/calendar/calendar16534\n\nBT  Rosh Chodesh Women's Club
DTSTART;TZID=America/New_York:20151115T100000
DTEND;TZID=America/New_York:20151115T100000
END:VEVENT
END:VCALENDAR
