BEGIN:VCALENDAR
PRODID:-//eluceo/ical//2.0/EN
VERSION:2.0
CALSCALE:GREGORIAN
BEGIN:VEVENT
UID:22fa5c417653ba6f2dceab706d7404c7
DTSTAMP:20260424T053935Z
SUMMARY:TS Services
DESCRIPTION:Jewish Federation of Greater Naples\nCommunity Calendar\nhttps:
 //jewishnaples.org/calendar/calendar16529\n\nTS Services
DTSTART;TZID=America/New_York:20151114T100000
DTEND;TZID=America/New_York:20151114T100000
END:VEVENT
END:VCALENDAR
