BEGIN:VCALENDAR
PRODID:-//eluceo/ical//2.0/EN
VERSION:2.0
CALSCALE:GREGORIAN
BEGIN:VEVENT
UID:9eb908d22e5e8cd827f3173ccddb9b8a
DTSTAMP:20260422T180814Z
SUMMARY:JCMI  Services
DESCRIPTION:Jewish Federation of Greater Naples\nCommunity Calendar\nhttps:
 //jewishnaples.org/calendar/calendar16526\n\nJCMI  Services
DTSTART;TZID=America/New_York:20151113T200000
DTEND;TZID=America/New_York:20151113T200000
END:VEVENT
END:VCALENDAR
