BEGIN:VCALENDAR
PRODID:-//eluceo/ical//2.0/EN
VERSION:2.0
CALSCALE:GREGORIAN
BEGIN:VEVENT
UID:4d72c6a4195eb086096df91dc4f66e12
DTSTAMP:20260424T022956Z
SUMMARY:BT Service
DESCRIPTION:Jewish Federation of Greater Naples\nCommunity Calendar\nhttps:
 //jewishnaples.org/calendar/calendar16523\n\nBT Service
DTSTART;TZID=America/New_York:20151113T181500
DTEND;TZID=America/New_York:20151113T181500
END:VEVENT
END:VCALENDAR
