BEGIN:VCALENDAR
PRODID:-//eluceo/ical//2.0/EN
VERSION:2.0
CALSCALE:GREGORIAN
BEGIN:VEVENT
UID:1fb508ef8ac600a6503741c8b452d30e
DTSTAMP:20260424T005146Z
SUMMARY:Rosh Chodesh
DESCRIPTION:Jewish Federation of Greater Naples\nCommunity Calendar\nhttps:
 //jewishnaples.org/calendar/calendar16522\n\nRosh Chodesh
DTSTART;TZID=America/New_York:20151113T000000
DTEND;TZID=America/New_York:20151114T000000
END:VEVENT
END:VCALENDAR
