BEGIN:VCALENDAR
PRODID:-//eluceo/ical//2.0/EN
VERSION:2.0
CALSCALE:GREGORIAN
BEGIN:VEVENT
UID:ee2e17784b89f18abe00a4a74e9a60f9
DTSTAMP:20260424T041330Z
SUMMARY:BBYO  Youth Activity
DESCRIPTION:Jewish Federation of Greater Naples\nCommunity Calendar\nhttps:
 //jewishnaples.org/calendar/calendar16520\n\nBBYO  Youth Activity
DTSTART;TZID=America/New_York:20151112T180000
DTEND;TZID=America/New_York:20151112T180000
END:VEVENT
END:VCALENDAR
