BEGIN:VCALENDAR
PRODID:-//eluceo/ical//2.0/EN
VERSION:2.0
CALSCALE:GREGORIAN
BEGIN:VEVENT
UID:8b41b56c0239d9ffa893111d7f022130
DTSTAMP:20260423T112533Z
SUMMARY:TS  Rosh Chodesh
DESCRIPTION:Jewish Federation of Greater Naples\nCommunity Calendar\nhttps:
 //jewishnaples.org/calendar/calendar16519\n\nTS  Rosh Chodesh
DTSTART;TZID=America/New_York:20151112T173000
DTEND;TZID=America/New_York:20151112T173000
END:VEVENT
END:VCALENDAR
