BEGIN:VCALENDAR
PRODID:-//eluceo/ical//2.0/EN
VERSION:2.0
CALSCALE:GREGORIAN
BEGIN:VEVENT
UID:5f5dc3c03125800cb716e1662c0e2320
DTSTAMP:20260424T002015Z
SUMMARY:CHA  Men's Club
DESCRIPTION:Jewish Federation of Greater Naples\nCommunity Calendar\nhttps:
 //jewishnaples.org/calendar/calendar16516\n\nCHA  Men's Club
DTSTART;TZID=America/New_York:20151112T113000
DTEND;TZID=America/New_York:20151112T113000
END:VEVENT
END:VCALENDAR
