BEGIN:VCALENDAR
PRODID:-//eluceo/ical//2.0/EN
VERSION:2.0
CALSCALE:GREGORIAN
BEGIN:VEVENT
UID:fbd183adb6f211e225dee3ab85731f0f
DTSTAMP:20260423T065759Z
SUMMARY:MCA Welcome Back Luncheon
DESCRIPTION:Jewish Federation of Greater Naples\nCommunity Calendar\nhttps:
 //jewishnaples.org/calendar/calendar16515\n\nMCA Welcome Back Luncheon
DTSTART;TZID=America/New_York:20151112T110000
DTEND;TZID=America/New_York:20151112T110000
END:VEVENT
END:VCALENDAR
