BEGIN:VCALENDAR
PRODID:-//eluceo/ical//2.0/EN
VERSION:2.0
CALSCALE:GREGORIAN
BEGIN:VEVENT
UID:328d9e4e28e259e6c4c7e3a09b3de52e
DTSTAMP:20260424T015701Z
SUMMARY:Rosh Chodesh
DESCRIPTION:Jewish Federation of Greater Naples\nCommunity Calendar\nhttps:
 //jewishnaples.org/calendar/calendar16514\n\nRosh Chodesh
DTSTART;TZID=America/New_York:20151112T000000
DTEND;TZID=America/New_York:20151113T000000
END:VEVENT
END:VCALENDAR
