BEGIN:VCALENDAR
PRODID:-//eluceo/ical//2.0/EN
VERSION:2.0
CALSCALE:GREGORIAN
BEGIN:VEVENT
UID:c9c16bf47dd13dc5e2efa5434bb5eca1
DTSTAMP:20260421T224014Z
SUMMARY:BT  Rabbi's Study Course
DESCRIPTION:Jewish Federation of Greater Naples\nCommunity Calendar\nhttps:
 //jewishnaples.org/calendar/calendar16512\n\nBT  Rabbi's Study Course
DTSTART;TZID=America/New_York:20151111T193000
DTEND;TZID=America/New_York:20151111T193000
END:VEVENT
END:VCALENDAR
