BEGIN:VCALENDAR
PRODID:-//eluceo/ical//2.0/EN
VERSION:2.0
CALSCALE:GREGORIAN
BEGIN:VEVENT
UID:43133fd2b2df3c46ac3d4bd9069c3a0c
DTSTAMP:20260423T163747Z
SUMMARY:TS  Adult B'nai Mitzvah class
DESCRIPTION:Jewish Federation of Greater Naples\nCommunity Calendar\nhttps:
 //jewishnaples.org/calendar/calendar16511\n\nTS  Adult B'nai Mitzvah class
DTSTART;TZID=America/New_York:20151111T183000
DTEND;TZID=America/New_York:20151111T183000
END:VEVENT
END:VCALENDAR
