BEGIN:VCALENDAR
PRODID:-//eluceo/ical//2.0/EN
VERSION:2.0
CALSCALE:GREGORIAN
BEGIN:VEVENT
UID:e8cbf0e04113cc716e7f3a69a6fc0397
DTSTAMP:20260421T141041Z
SUMMARY:TS  Hebrew School
DESCRIPTION:Jewish Federation of Greater Naples\nCommunity Calendar\nhttps:
 //jewishnaples.org/calendar/calendar16510\n\nTS  Hebrew School
DTSTART;TZID=America/New_York:20151111T163000
DTEND;TZID=America/New_York:20151111T163000
END:VEVENT
END:VCALENDAR
