BEGIN:VCALENDAR
PRODID:-//eluceo/ical//2.0/EN
VERSION:2.0
CALSCALE:GREGORIAN
BEGIN:VEVENT
UID:830f1dcf36fc311f5df573ff1b03f635
DTSTAMP:20260423T062728Z
SUMMARY:CHA  Hebrew School
DESCRIPTION:Jewish Federation of Greater Naples\nCommunity Calendar\nhttps:
 //jewishnaples.org/calendar/calendar16509\n\nCHA  Hebrew School
DTSTART;TZID=America/New_York:20151111T163000
DTEND;TZID=America/New_York:20151111T163000
END:VEVENT
END:VCALENDAR
