BEGIN:VCALENDAR
PRODID:-//eluceo/ical//2.0/EN
VERSION:2.0
CALSCALE:GREGORIAN
BEGIN:VEVENT
UID:c5c340f0000c3270400687bce583a75e
DTSTAMP:20260422T221338Z
SUMMARY:IAC  Committee Meeting
DESCRIPTION:Jewish Federation of Greater Naples\nCommunity Calendar\nhttps:
 //jewishnaples.org/calendar/calendar16507\n\nIAC  Committee Meeting
DTSTART;TZID=America/New_York:20151111T133000
DTEND;TZID=America/New_York:20151111T133000
END:VEVENT
END:VCALENDAR
