BEGIN:VCALENDAR
PRODID:-//eluceo/ical//2.0/EN
VERSION:2.0
CALSCALE:GREGORIAN
BEGIN:VEVENT
UID:cd64baafc9d76c637d4cc26594c14559
DTSTAMP:20260424T061743Z
SUMMARY:Veterans Day
DESCRIPTION:Jewish Federation of Greater Naples\nCommunity Calendar\nhttps:
 //jewishnaples.org/calendar/calendar16503\n\nVeterans Day
DTSTART;TZID=America/New_York:20151111T000000
DTEND;TZID=America/New_York:20151112T000000
END:VEVENT
END:VCALENDAR
