BEGIN:VCALENDAR
PRODID:-//eluceo/ical//2.0/EN
VERSION:2.0
CALSCALE:GREGORIAN
BEGIN:VEVENT
UID:84b7b1ced3bb207d0adb21601cd06e01
DTSTAMP:20260422T085214Z
SUMMARY:BT  Rabbi's Study Course
DESCRIPTION:Jewish Federation of Greater Naples\nCommunity Calendar\nhttps:
 //jewishnaples.org/calendar/calendar16501\n\nBT  Rabbi's Study Course
DTSTART;TZID=America/New_York:20151110T160000
DTEND;TZID=America/New_York:20151110T160000
END:VEVENT
END:VCALENDAR
