BEGIN:VCALENDAR
PRODID:-//eluceo/ical//2.0/EN
VERSION:2.0
CALSCALE:GREGORIAN
BEGIN:VEVENT
UID:3d8d167ec14c71c641ab08de84055002
DTSTAMP:20260423T204322Z
SUMMARY:NJC Sisterhood Opening Luncheon
DESCRIPTION:Jewish Federation of Greater Naples\nCommunity Calendar\nhttps:
 //jewishnaples.org/calendar/calendar16499\n\nNJC Sisterhood Opening Lunche
 on
DTSTART;TZID=America/New_York:20151110T120000
DTEND;TZID=America/New_York:20151110T120000
END:VEVENT
END:VCALENDAR
