BEGIN:VCALENDAR
PRODID:-//eluceo/ical//2.0/EN
VERSION:2.0
CALSCALE:GREGORIAN
BEGIN:VEVENT
UID:655d63a5e35d5c865fd66d3bc6db1c94
DTSTAMP:20260423T204526Z
SUMMARY:JCMI  Bingo
DESCRIPTION:Jewish Federation of Greater Naples\nCommunity Calendar\nhttps:
 //jewishnaples.org/calendar/calendar16496\n\nJCMI  Bingo
DTSTART;TZID=America/New_York:20151109T173000
DTEND;TZID=America/New_York:20151109T173000
END:VEVENT
END:VCALENDAR
