BEGIN:VCALENDAR
PRODID:-//eluceo/ical//2.0/EN
VERSION:2.0
CALSCALE:GREGORIAN
BEGIN:VEVENT
UID:84258d0f81309b739843537bddd807cb
DTSTAMP:20260419T235252Z
SUMMARY:BT  Sunday School
DESCRIPTION:Jewish Federation of Greater Naples\nCommunity Calendar\nhttps:
 //jewishnaples.org/calendar/calendar16491\n\nBT  Sunday School
DTSTART;TZID=America/New_York:20151108T090000
DTEND;TZID=America/New_York:20151108T090000
END:VEVENT
END:VCALENDAR
