BEGIN:VCALENDAR
PRODID:-//eluceo/ical//2.0/EN
VERSION:2.0
CALSCALE:GREGORIAN
BEGIN:VEVENT
UID:40cc744e801eec77b405a1bd252f8eae
DTSTAMP:20260423T190332Z
SUMMARY:TS Services
DESCRIPTION:Jewish Federation of Greater Naples\nCommunity Calendar\nhttps:
 //jewishnaples.org/calendar/calendar16488\n\nTS Services
DTSTART;TZID=America/New_York:20151107T100000
DTEND;TZID=America/New_York:20151107T100000
END:VEVENT
END:VCALENDAR
