BEGIN:VCALENDAR
PRODID:-//eluceo/ical//2.0/EN
VERSION:2.0
CALSCALE:GREGORIAN
BEGIN:VEVENT
UID:9d419cc6a664c78f9036d022ccf07d3c
DTSTAMP:20260424T050429Z
SUMMARY:WCA Board Meeting
DESCRIPTION:Jewish Federation of Greater Naples\nCommunity Calendar\nhttps:
 //jewishnaples.org/calendar/calendar16478\n\nWCA Board Meeting
DTSTART;TZID=America/New_York:20151106T090000
DTEND;TZID=America/New_York:20151106T090000
END:VEVENT
END:VCALENDAR
