BEGIN:VCALENDAR
PRODID:-//eluceo/ical//2.0/EN
VERSION:2.0
CALSCALE:GREGORIAN
BEGIN:VEVENT
UID:581716a213cfcc115788a2c9e52b5636
DTSTAMP:20260424T085754Z
SUMMARY:BBYO  Youth Activity
DESCRIPTION:Jewish Federation of Greater Naples\nCommunity Calendar\nhttps:
 //jewishnaples.org/calendar/calendar16476\n\nBBYO  Youth Activity
DTSTART;TZID=America/New_York:20151105T180000
DTEND;TZID=America/New_York:20151105T180000
END:VEVENT
END:VCALENDAR
