BEGIN:VCALENDAR
PRODID:-//eluceo/ical//2.0/EN
VERSION:2.0
CALSCALE:GREGORIAN
BEGIN:VEVENT
UID:6958ecf8402226e6f2360aa1bf7c710a
DTSTAMP:20260424T033650Z
SUMMARY:CHA  Men's Club
DESCRIPTION:Jewish Federation of Greater Naples\nCommunity Calendar\nhttps:
 //jewishnaples.org/calendar/calendar16475\n\nCHA  Men's Club
DTSTART;TZID=America/New_York:20151105T113000
DTEND;TZID=America/New_York:20151105T113000
END:VEVENT
END:VCALENDAR
