BEGIN:VCALENDAR
PRODID:-//eluceo/ical//2.0/EN
VERSION:2.0
CALSCALE:GREGORIAN
BEGIN:VEVENT
UID:c88e3b0ab69627b5a2878c385bab51e2
DTSTAMP:20260422T190140Z
SUMMARY:TS  Hebrew School
DESCRIPTION:Jewish Federation of Greater Naples\nCommunity Calendar\nhttps:
 //jewishnaples.org/calendar/calendar16473\n\nTS  Hebrew School
DTSTART;TZID=America/New_York:20151104T163000
DTEND;TZID=America/New_York:20151104T163000
END:VEVENT
END:VCALENDAR
