BEGIN:VCALENDAR
PRODID:-//eluceo/ical//2.0/EN
VERSION:2.0
CALSCALE:GREGORIAN
BEGIN:VEVENT
UID:b229d6e70e2500c24f3c0d52abde0515
DTSTAMP:20260423T105342Z
SUMMARY:BT  Hebrew School
DESCRIPTION:Jewish Federation of Greater Naples\nCommunity Calendar\nhttps:
 //jewishnaples.org/calendar/calendar16471\n\nBT  Hebrew School
DTSTART;TZID=America/New_York:20151104T163000
DTEND;TZID=America/New_York:20151104T163000
END:VEVENT
END:VCALENDAR
