BEGIN:VCALENDAR
PRODID:-//eluceo/ical//2.0/EN
VERSION:2.0
CALSCALE:GREGORIAN
BEGIN:VEVENT
UID:ddff2c203b6c6c79b5462f610783080e
DTSTAMP:20260423T022709Z
SUMMARY:JCRC Meeting
DESCRIPTION:Jewish Federation of Greater Naples\nCommunity Calendar\nhttps:
 //jewishnaples.org/calendar/calendar16470\n\nJCRC Meeting
DTSTART;TZID=America/New_York:20151104T133000
DTEND;TZID=America/New_York:20151104T133000
END:VEVENT
END:VCALENDAR
