BEGIN:VCALENDAR
PRODID:-//eluceo/ical//2.0/EN
VERSION:2.0
CALSCALE:GREGORIAN
BEGIN:VEVENT
UID:f9e2c9ffde707414c8d93c1f18b7aef5
DTSTAMP:20260424T050612Z
SUMMARY:WCA - TS  Canasta
DESCRIPTION:Jewish Federation of Greater Naples\nCommunity Calendar\nhttps:
 //jewishnaples.org/calendar/calendar16469\n\nWCA - TS  Canasta
DTSTART;TZID=America/New_York:20151104T130000
DTEND;TZID=America/New_York:20151104T130000
END:VEVENT
END:VCALENDAR
