BEGIN:VCALENDAR
PRODID:-//eluceo/ical//2.0/EN
VERSION:2.0
CALSCALE:GREGORIAN
BEGIN:VEVENT
UID:46073017b10e99091988186fd1d2cec2
DTSTAMP:20260424T024738Z
SUMMARY:JFCC Executive Board Meeting
DESCRIPTION:Jewish Federation of Greater Naples\nCommunity Calendar\nhttps:
 //jewishnaples.org/calendar/calendar16467\n\nJFCC Executive Board Meeting
DTSTART;TZID=America/New_York:20151103T160000
DTEND;TZID=America/New_York:20151103T160000
END:VEVENT
END:VCALENDAR
