BEGIN:VCALENDAR
PRODID:-//eluceo/ical//2.0/EN
VERSION:2.0
CALSCALE:GREGORIAN
BEGIN:VEVENT
UID:4415af2ba45595ef2da0688b3a420292
DTSTAMP:20260424T110730Z
SUMMARY:CJD - Committee Meeting
DESCRIPTION:Jewish Federation of Greater Naples\nCommunity Calendar\nhttps:
 //jewishnaples.org/calendar/calendar16465\n\nCJD - Committee Meeting
DTSTART;TZID=America/New_York:20151103T133000
DTEND;TZID=America/New_York:20151103T133000
END:VEVENT
END:VCALENDAR
