BEGIN:VCALENDAR
PRODID:-//eluceo/ical//2.0/EN
VERSION:2.0
CALSCALE:GREGORIAN
BEGIN:VEVENT
UID:90a7b1186a20e516bb684e442619c624
DTSTAMP:20260420T221232Z
SUMMARY:TS Sisterhood Board Meeting
DESCRIPTION:Jewish Federation of Greater Naples\nCommunity Calendar\nhttps:
 //jewishnaples.org/calendar/calendar16463\n\nTS Sisterhood Board Meeting
DTSTART;TZID=America/New_York:20151103T100000
DTEND;TZID=America/New_York:20151103T100000
END:VEVENT
END:VCALENDAR
