BEGIN:VCALENDAR
PRODID:-//eluceo/ical//2.0/EN
VERSION:2.0
CALSCALE:GREGORIAN
BEGIN:VEVENT
UID:14bbe577ce83478709d84bbce39b1d21
DTSTAMP:20260420T125754Z
SUMMARY:TS - Yiddish Club Meeting
DESCRIPTION:Jewish Federation of Greater Naples\nCommunity Calendar\nhttps:
 //jewishnaples.org/calendar/calendar16462\n\nTS - Yiddish Club Meeting
DTSTART;TZID=America/New_York:20151103T100000
DTEND;TZID=America/New_York:20151103T100000
END:VEVENT
END:VCALENDAR
