BEGIN:VCALENDAR
PRODID:-//eluceo/ical//2.0/EN
VERSION:2.0
CALSCALE:GREGORIAN
BEGIN:VEVENT
UID:f83c8177c96362f7b6b020590647ac56
DTSTAMP:20260421T140147Z
SUMMARY:TS - NCJW Monthly Meeting
DESCRIPTION:Jewish Federation of Greater Naples\nCommunity Calendar\nhttps:
 //jewishnaples.org/calendar/calendar16458\n\nTS - NCJW Monthly Meeting
DTSTART;TZID=America/New_York:20151102T100000
DTEND;TZID=America/New_York:20151102T100000
END:VEVENT
END:VCALENDAR
