BEGIN:VCALENDAR
PRODID:-//eluceo/ical//2.0/EN
VERSION:2.0
CALSCALE:GREGORIAN
BEGIN:VEVENT
UID:4c0d5e0895e0e1162fe1506cd1849b45
DTSTAMP:20260423T211116Z
SUMMARY:HDH  Evening Activity Group Welcome Back Pot Luck
DESCRIPTION:Jewish Federation of Greater Naples\nCommunity Calendar\nhttps:
 //jewishnaples.org/calendar/calendar16457\n\nHDH  Evening Activity Group W
 elcome Back Pot Luck
DTSTART;TZID=America/New_York:20151101T173000
DTEND;TZID=America/New_York:20151101T173000
END:VEVENT
END:VCALENDAR
