BEGIN:VCALENDAR
PRODID:-//eluceo/ical//2.0/EN
VERSION:2.0
CALSCALE:GREGORIAN
BEGIN:VEVENT
UID:8687954850542e5c7b4a16d03231d4b7
DTSTAMP:20260424T031211Z
SUMMARY:IAC Speaker: Alon Ben David
DESCRIPTION:Jewish Federation of Greater Naples\nCommunity Calendar\nhttps:
 //jewishnaples.org/calendar/calendar16456\n\nIAC Speaker: Alon Ben David
DTSTART;TZID=America/New_York:20151101T140000
DTEND;TZID=America/New_York:20151101T140000
END:VEVENT
END:VCALENDAR
