BEGIN:VCALENDAR
PRODID:-//eluceo/ical//2.0/EN
VERSION:2.0
CALSCALE:GREGORIAN
BEGIN:VEVENT
UID:809402c22b8a7143a30e8028df26966b
DTSTAMP:20260424T070042Z
SUMMARY:TS Sunday School
DESCRIPTION:Jewish Federation of Greater Naples\nCommunity Calendar\nhttps:
 //jewishnaples.org/calendar/calendar16455\n\nTS Sunday School
DTSTART;TZID=America/New_York:20151101T093000
DTEND;TZID=America/New_York:20151101T093000
END:VEVENT
END:VCALENDAR
