BEGIN:VCALENDAR
PRODID:-//eluceo/ical//2.0/EN
VERSION:2.0
CALSCALE:GREGORIAN
BEGIN:VEVENT
UID:b715d032df56d99583aa2074e14a931d
DTSTAMP:20260423T092504Z
SUMMARY:Fed Star Editorial Deadline
DESCRIPTION:Jewish Federation of Greater Naples\nCommunity Calendar\nhttps:
 //jewishnaples.org/calendar/calendar16452\n\nFed Star Editorial Deadline
DTSTART;TZID=America/New_York:20151101T000000
DTEND;TZID=America/New_York:20151102T000000
END:VEVENT
END:VCALENDAR
