BEGIN:VCALENDAR
PRODID:-//eluceo/ical//2.0/EN
VERSION:2.0
CALSCALE:GREGORIAN
BEGIN:VEVENT
UID:e852d1f6c2e2fe0558f452efa91f3f9a
DTSTAMP:20260424T001659Z
SUMMARY:TS Services
DESCRIPTION:Jewish Federation of Greater Naples\nCommunity Calendar\nhttps:
 //jewishnaples.org/calendar/calendar16446\n\nTS Services
DTSTART;TZID=America/New_York:20151030T193000
DTEND;TZID=America/New_York:20151030T193000
END:VEVENT
END:VCALENDAR
