BEGIN:VCALENDAR
PRODID:-//eluceo/ical//2.0/EN
VERSION:2.0
CALSCALE:GREGORIAN
BEGIN:VEVENT
UID:cc2ce53bf857b932f9d0116f96a2ffd9
DTSTAMP:20260422T085407Z
SUMMARY:BBYO  Youth Activity
DESCRIPTION:Jewish Federation of Greater Naples\nCommunity Calendar\nhttps:
 //jewishnaples.org/calendar/calendar16443\n\nBBYO  Youth Activity
DTSTART;TZID=America/New_York:20151029T180000
DTEND;TZID=America/New_York:20151029T180000
END:VEVENT
END:VCALENDAR
