BEGIN:VCALENDAR
PRODID:-//eluceo/ical//2.0/EN
VERSION:2.0
CALSCALE:GREGORIAN
BEGIN:VEVENT
UID:925eea05caaa721227e262d55a2c0f9c
DTSTAMP:20260424T104502Z
SUMMARY:TS  Hebrew School
DESCRIPTION:Jewish Federation of Greater Naples\nCommunity Calendar\nhttps:
 //jewishnaples.org/calendar/calendar16439\n\nTS  Hebrew School
DTSTART;TZID=America/New_York:20151028T163000
DTEND;TZID=America/New_York:20151028T163000
END:VEVENT
END:VCALENDAR
